

BEGIN:VCALENDAR
VERSION:2.0
PRODID:-//hacksw/handcal//NONSGML v1.0//EN
CALSCALE:GREGORIAN
BEGIN:VEVENT
DTEND:20191101T220000
UID:60343134d7136
DTSTAMP:20210223T093324
LOCATION:Portland Civic Hall 30 Bentinck St Portland 3305 VIC
DESCRIPTION:The Gala Art Show Opening and Preview Evening will be held on Friday 1st November 7:00 pm.&nbsp\;Official Opening &amp\; Presentation at 7:30 pm.
SAVORIES\, CHAMPAGNE &amp\; BEER SUPPER
Tickets at $30.00 each
This is when most paintings are sold. Competition for the purchase of works when the exhibition opens will be keen and we intend making this preview evening one to remember.
URL;VALUE=URI:http://portlandartshow.com.au/event/28672
SUMMARY:Gala Art Show Opening
DTSTART:20191101T190000
END:VEVENT
END:VCALENDAR

